BEGIN:VCALENDAR
VERSION:2.0
PRODID:-//Genitti&#039;s - ECPv6.15.20//NONSGML v1.0//EN
CALSCALE:GREGORIAN
METHOD:PUBLISH
X-WR-CALNAME:Genitti&#039;s
X-ORIGINAL-URL:https://www.genittis.com
X-WR-CALDESC:Events for Genitti&#039;s
REFRESH-INTERVAL;VALUE=DURATION:PT1H
X-Robots-Tag:noindex
X-PUBLISHED-TTL:PT1H
BEGIN:VTIMEZONE
TZID:UTC
BEGIN:STANDARD
TZOFFSETFROM:+0000
TZOFFSETTO:+0000
TZNAME:UTC
DTSTART:20240101T000000
END:STANDARD
END:VTIMEZONE
BEGIN:VEVENT
DTSTART;TZID=UTC:20251119T183000
DTEND;TZID=UTC:20251119T183000
DTSTAMP:20260419T121302
CREATED:20251111T191722Z
LAST-MODIFIED:20251111T191750Z
UID:10000346-1763577000-1763577000@www.genittis.com
SUMMARY:A Game of Death
DESCRIPTION:  \nYou’re invited to the taping of the pilot episode of what promises to be the everyone’s favorite 1970’s game show: The Lucky Duck! Featuring fabulous prizes\, celebrity guests\, and as “luck” would have it\, a murder. You’ll get a chance to play along and even vote for the killer in Genitti’s newest interactive comedy murder mystery! \nWhat’s for dinner?\nWith each of its expansions\, Genitti’s has maintained their original\, highly successful formula of providing excellent food and comfortable\, relaxed way of dining and entertainment. The seven-course family-style Italian dinner is a guaranteed delight. Like an Italian wedding\, it features lots of food\, served hot on platters right to the table. \n\nItalian Wedding Soup\nGarlic Breadsticks\nGenitti’s Very Own White Pasta\nAntipasto Salad with Italian Vinaigrette\nBaked Chicken with Vegetable\nItalian Steak with Oven-Roasted Potatoes\nItalian Sausage with Green Peppers & Onions\nCannoli for Dessert\n\n* We accommodate all food allergies and special diets. Please let us know when booking. \nBar & Beverages\nBar Tab: Settle the bar tab at the end of the evening \n*Our pricing includes coffee\, tea\, and all non-alcoholic beverages. \n 
URL:https://www.genittis.com/event/a-game-of-death-murder-mystery-dinner-theater-2-2-2-2-2-2-2/2025-11-19/
CATEGORIES:Dinner Theater
ATTACH;FMTTYPE=image/jpeg:https://www.genittis.com/wp-content/uploads/2024/11/IMG_1674.jpeg
END:VEVENT
END:VCALENDAR